BEGIN:VCALENDAR
VERSION:2.0
PRODID:-//ΣΙΣΑ - ECPv6.10.2//NONSGML v1.0//EN
CALSCALE:GREGORIAN
METHOD:PUBLISH
X-ORIGINAL-URL:https://www.sisa.gr
X-WR-CALDESC:Events for ΣΙΣΑ
REFRESH-INTERVAL;VALUE=DURATION:PT1H
X-Robots-Tag:noindex
X-PUBLISHED-TTL:PT1H
BEGIN:VTIMEZONE
TZID:Europe/Athens
BEGIN:DAYLIGHT
TZOFFSETFROM:+0200
TZOFFSETTO:+0300
TZNAME:EEST
DTSTART:20140330T010000
END:DAYLIGHT
BEGIN:STANDARD
TZOFFSETFROM:+0300
TZOFFSETTO:+0200
TZNAME:EET
DTSTART:20141026T010000
END:STANDARD
END:VTIMEZONE
BEGIN:VEVENT
DTSTART;TZID=Europe/Athens:20140921T110000
DTEND;TZID=Europe/Athens:20140921T110000
DTSTAMP:20260426T040221
CREATED:20140912T090027Z
LAST-MODIFIED:20180804T090505Z
UID:1889-1411297200-1411297200@www.sisa.gr
SUMMARY:Φθινοπωρινή Βόλτα "Cars & Coffee"
DESCRIPTION:Ο ΣΙΣΑ προσκαλεί τα μέλη του και τους φίλους του σε μία χαλαρή βόλτα & συνάντηση στη Γλυφάδα.\nΔεκτά είναι όλα τα αυτοκίνητα που έχουν κάρτες FIVA ή FIA και η συμμετοχή είναι δωρεάν για διμελή πληρώματα και το Yoomoo θα μας κεράσει από έναν καφέ ανά άτομο. Η συνάντηση θα ξεκινήσει στις 11 πμ έξω από το κατάστημα Yoomoo\, Κύπρου 51 Γλυφάδα\, που απέχει μόλις λίγα μέτρα από την πλατεία Εσπερίδων. Σας περιμένουμε για χαλαρή βόλτα\, καφεδάκι & κουβεντούλα.
URL:https://www.sisa.gr/event/%cf%86%ce%b8%ce%b9%ce%bd%ce%bf%cf%80%cf%89%cf%81%ce%b9%ce%bd%ce%ae-%ce%b2%cf%8c%ce%bb%cf%84%ce%b1-cars-coffee/
CATEGORIES:Εκδρομή
ORGANIZER;CN="%CE%A3%CE%99%CE%A3%CE%91":MAILTO:info@sisa.gr
END:VEVENT
END:VCALENDAR