BEGIN:VCALENDAR
VERSION:2.0
PRODID:-//ΣΙΣΑ - ECPv6.10.2//NONSGML v1.0//EN
CALSCALE:GREGORIAN
METHOD:PUBLISH
X-ORIGINAL-URL:https://www.sisa.gr
X-WR-CALDESC:Events for ΣΙΣΑ
REFRESH-INTERVAL;VALUE=DURATION:PT1H
X-Robots-Tag:noindex
X-PUBLISHED-TTL:PT1H
BEGIN:VTIMEZONE
TZID:Europe/Athens
BEGIN:DAYLIGHT
TZOFFSETFROM:+0200
TZOFFSETTO:+0300
TZNAME:EEST
DTSTART:20150329T010000
END:DAYLIGHT
BEGIN:STANDARD
TZOFFSETFROM:+0300
TZOFFSETTO:+0200
TZNAME:EET
DTSTART:20151025T010000
END:STANDARD
END:VTIMEZONE
BEGIN:VEVENT
DTSTART;TZID=Europe/Athens:20150516T170000
DTEND;TZID=Europe/Athens:20150516T170000
DTSTAMP:20260425T164150
CREATED:20150507T080336Z
LAST-MODIFIED:20180804T084215Z
UID:1865-1431795600-1431795600@www.sisa.gr
SUMMARY:ΑΝΟΙΞΙΑΤΙΚΗ ΒΟΛΤΑ 2015
DESCRIPTION:Ο Σύλλογος Ιδιοκτητών Σπορ Αυτοκινήτων σας προσκαλεί το Σάββατο 16 Μαϊου 2015 στην καθιερωμένη Ανοιξιάτικη Βόλτα. Σας περιμένουμε είτε με το ιστορικό σας αυτοκίνητο\, είτε με το youngtimer σας. Μοναδική προϋπόθεση είναι η ύπαρξη ασφαλιστηρίου συμβολαίου και κάρτας πιστοποίησης FIVA ή FIA. Η διαδρομή είναι ελεύθερη\, χωρίς roadbook και περιορισμούς και η συμμετοχή είναι δωρεάν.\nΗ συγκέντρωση θα γίνει 17:00 – 18:00 στο  “Vive Mar” στη Λ. Καραμανλή 18 στη Βούλα. Στη συνέχεια τα αυτοκίνητα θα κινηθούν σε μικρές ομάδες προς την Πάλαια Φώκαια και θα παραταχθούν στο πάρκινγκ του  “Seagull Cafe” Λ. Σουνίου 7 στην Παλαιά Φώκαια. Εκεί μπορείτε να απολαύσετε τον καφέ σας ή ψαρομεζέδες σε προνομιακές τιμές.\nΔεν απαιτείται να στείλετε αίτηση συμμετοχής\, απλά για την καλύτερη οργάνωση της βόλτας\, θα ήταν καλό να ενημερώσετε τηλεφωνικά τη γραμματεία του Συλλόγου τη Δευτέρα 11/5 19:00-21:00 ή την Πέμπτη 14/5 19:00-20:00 στο τηλ 210 9704457 ή με email στο info@sisa.gr\nΣας περιμένουμε για μια χαλαρή ανοιξιάτικη βόλτα\, χωρίς το άγχος του ανταγωνισμού\, των ειδικών διαδρομών και των χρονομέτρων.
URL:https://www.sisa.gr/event/%ce%b1%ce%bd%ce%bf%ce%b9%ce%be%ce%b9%ce%b1%cf%84%ce%b9%ce%ba%ce%b7-%ce%b2%ce%bf%ce%bb%cf%84%ce%b1-2015/
CATEGORIES:Εκδρομή
ATTACH;FMTTYPE=image/jpeg:https://www.sisa.gr/wp-content/uploads/2018/07/IMG_0204.jpg
END:VEVENT
END:VCALENDAR