BEGIN:VCALENDAR
VERSION:2.0
PRODID:-//ΣΙΣΑ - ECPv6.10.2//NONSGML v1.0//EN
CALSCALE:GREGORIAN
METHOD:PUBLISH
X-WR-CALNAME:ΣΙΣΑ
X-ORIGINAL-URL:https://www.sisa.gr
X-WR-CALDESC:Events for ΣΙΣΑ
REFRESH-INTERVAL;VALUE=DURATION:PT1H
X-Robots-Tag:noindex
X-PUBLISHED-TTL:PT1H
BEGIN:VTIMEZONE
TZID:Europe/Athens
BEGIN:DAYLIGHT
TZOFFSETFROM:+0200
TZOFFSETTO:+0300
TZNAME:EEST
DTSTART:20160327T010000
END:DAYLIGHT
BEGIN:STANDARD
TZOFFSETFROM:+0300
TZOFFSETTO:+0200
TZNAME:EET
DTSTART:20161030T010000
END:STANDARD
END:VTIMEZONE
BEGIN:VEVENT
DTSTART;TZID=Europe/Athens:20160207T100000
DTEND;TZID=Europe/Athens:20160207T130000
DTSTAMP:20260425T042703
CREATED:20160126T114928Z
LAST-MODIFIED:20180803T105303Z
UID:1785-1454839200-1454850000@www.sisa.gr
SUMMARY:Peugeot-Πορεία et les amis
DESCRIPTION:PEUGEOT-ΠΟΡΕΙΑ ET LES AMIS\nΣΥΝΑΝΤΗΣΗ ΓΑΛΛΙΚΩΝ ΚΛΑΣΣΙΚΩΝ ΟΧΗΜΑΤΩΝ\nΔΗΜΟΣ ΒΑΡΗΣ – ΒΟΥΛΑΣ – ΒΟΥΛΙΑΓΜΕΝΗΣ\n7/2/2016 – ΚΕΝΤΡΙΚΗ ΠΛΑΤΕΙΑ ΒΟΥΛΙΑΓΜΕΝΗΣ \nΠΡΟΓΡΑΜΜΑ ΕΚΔΗΛΩΣΗΣ \nΟ ΣΙΣΑ ξεκινά το 2016 με την  “ Peugeot-Πορεία et les amis” μια εκδήλωση που απευθύνεται στα κλασσικά Peugeot και στους φίλους τους\, σε Γαλλικά οχήματα που έχουν αφήσει το στίγμα τους στη Γαλλική αυτοκινητοβιομηχανία. \nΔικαίωμα συμμετοχής έχουν όλα τα πιστοποιημένα κλασσικά Peugeot\, τα γαλλικά ιστορικά αυτοκίνητα\, καθώς και τα γαλλικά young timer (κατασκευής 1987-1996). \nΤα αυτοκίνητα θα παραταχθούν στον χώρο του parking της πλατείας Βουλιαγμένης στις 10:00 αφού δηλώσουν τη συμμετοχή τους στην γραμματεία. Εκεί θα παραλάβουν την ειδική αναμνηστική πινακίδα\, το συλλεκτικό σμάλτο αυτοκόλλητο\, το συλλεκτικό μπρελόκ διπλής όψεως της συνάντησης\, καθώς και  δύο κουπόνια ανά πλήρωμα που αντιστοιχούν σε γαλλικό καφέ. \nΣε όλη την πλατεία θα αντηχεί γαλλική μουσική (τραγούδια εποχής) από την εταιρία\n«CRASH SOUND» με Dj τον ΓΙΩΡΓΟ ΜΗΤΡΟΠΟΥΛΟ. \nΣτις 12:30 θα γίνει απονομή αναμνηστικών πλακετών προς τον Δήμαρχο\, καθώς και τα μέλη του Διοικητικού Συμβουλίου ΟΑΠΠΑ. \nΣτις 13:00 με την βοήθεια της Τροχαίας θα γίνει η έξοδος των οχημάτων από την πλατεία με κατεύθυνση προς Σούνιο\, μια μικρή αυτοκινητοδρομία 25χλμ η οποία θα καταλήξει προαιρετικά για φαγητό στην Ταβέρνα «ΜΥΘΟΣ» στην Ανάβυσσο με προνομιακή τιμή τα 10€ ανά άτομο (δεν συμπεριλαμβάνονται τα ποτά). Για την καλύτερη εξυπηρέτηση των συμμετεχόντων παρακαλείται να δηλωθεί η συμμετοχή για γεύμα στην αρχή της εκδήλωσης στην γραμματεία. \nΗ έναρξη των δηλώσεων συμμετοχής ξεκινά στις 10:00 και το κόστος της εκδήλωσης ανέρχεται στα 25€ (1 αυτοκίνητο + 2 άτομα). \nΠεραιτέρω πληροφορίες στο εντευκτήριο του ΣΙΣΑ ή στο 6934 500500 (ΧΡΗΣΤΟΣ ΚΟΛΟΒΟΣ). \nΕυχόμαστε όλοι οι φίλοι των Γαλλικών Οχημάτων να παρευρεθούν σε αυτή την ιστορική συνάντηση.\n \nΤο πρόγραμμα της εκδήλωσης
URL:https://www.sisa.gr/event/peugeot-%cf%80%ce%bf%cf%81%ce%b5%ce%af%ce%b1-et-les-amis/
CATEGORIES:Εκδρομή
ORGANIZER;CN="%CE%A3%CE%99%CE%A3%CE%91":MAILTO:info@sisa.gr
END:VEVENT
END:VCALENDAR