BEGIN:VCALENDAR
VERSION:2.0
PRODID:-//ΣΙΣΑ - ECPv6.10.2//NONSGML v1.0//EN
CALSCALE:GREGORIAN
METHOD:PUBLISH
X-ORIGINAL-URL:https://www.sisa.gr
X-WR-CALDESC:Events for ΣΙΣΑ
REFRESH-INTERVAL;VALUE=DURATION:PT1H
X-Robots-Tag:noindex
X-PUBLISHED-TTL:PT1H
BEGIN:VTIMEZONE
TZID:Europe/Athens
BEGIN:DAYLIGHT
TZOFFSETFROM:+0200
TZOFFSETTO:+0300
TZNAME:EEST
DTSTART:20160327T010000
END:DAYLIGHT
BEGIN:STANDARD
TZOFFSETFROM:+0300
TZOFFSETTO:+0200
TZNAME:EET
DTSTART:20161030T010000
END:STANDARD
END:VTIMEZONE
BEGIN:VEVENT
DTSTART;VALUE=DATE:20160319
DTEND;VALUE=DATE:20160321
DTSTAMP:20260425T030516
CREATED:20160311T111921Z
LAST-MODIFIED:20180803T102403Z
UID:1760-1458345600-1458518399@www.sisa.gr
SUMMARY:Χειμερινή Εκδρομή 2016
DESCRIPTION:ΧΕΙΜΕΡΙΝΗ ΕΚΔΡΟΜΗ\nΟΡΕΙΝΗ ΑΡΚΑΔΙΑ 19-20/3/2016 \nΟ ΣΙΣΑ προσκαλεί τα μέλη του και τους φίλους του στις 19 & 20 Μαρτίου στη Χειμερινή Εκδρομή που θα γίνει με επίκεντρο το Λεβίδι Αρκαδίας. Η εκδήλωση είναι περιηγητικού χαρακτήρα (touring event) και δικαίωμα συμμετοχής έχουν κλασικά αυτοκίνητα και youngtimer. \nΗ εκδήλωση έχει δυο σκέλη.\n1. MONOΗΜΕΡΗ εκδρομή 19/3 με κόστος 40€ που περιλαμβάνει πλούσιο γεύμα για 2 άτομα στο γραφικό ΛΕΒΙΔΙ.\n2. ΔΙΗΜΕΡΗ εκδρομή 19-20/3 με κόστος 100€ που περιλαμβάνει  πλούσιο γεύμα για 2 άτομα στο ΛΕΒΙΔΙ και διανυκτέρευση με πρωινό στο εξαιρετικό ξενοδοχείο ΜΑΙΝΑΛΙΑ. \nΠρόγραμμα: \nΣΑΒΒΑΤΟ 19/3\n11:00 Συγκέντρωση πληρωμάτων στα GOODY’S MΕΓΑΡΩΝ.\n11:30 Εκκίνηση προς εθνική οδό Αθηνών-Κορίνθου-Τριπόλεως και μετά προς Λεβίδι.\nΗ απόσταση είναι περίπου 150 χλμ και πληροφορίες για τη διαδρομή θα δοθούν στην εκκίνηση.\n13:30 γεύμα στο Λεβίδι.\nΜετά προαιρετική βόλτα στη ΒΥΤΙΝΑ για καφέ.\nΤο βράδυ θα ακολουθήσει πάρτυ έξοδος στο cafe bar ΛΙΘΟΣ. \nΚΥΡΙΑΚΗ 20/3\nΕκδρομή στα γύρω ορεινά χωριά ΣΤΕΜΝΙΤΣΑ-ΔΗΜΗΤΣΑΝΑ με προαιρετικά ψώνια\, καφέ & φαγητό.\nΕλεύθερη επιστροφή στην Αθήνα. \nΓια πληροφορίες & κρατήσεις επικοινωνήστε με τον ΧΡΗΣΤΟ ΚΟΛΟΒΟ 6934500500. \nΧΕΙΜΕΡΙΝΗ_ΕΚΔΡΟΜΗ_ΣΙΣΑ
URL:https://www.sisa.gr/event/%cf%87%ce%b5%ce%b9%ce%bc%ce%b5%cf%81%ce%b9%ce%bd%ce%ae-%ce%b5%ce%ba%ce%b4%cf%81%ce%bf%ce%bc%ce%ae-2016/
LOCATION:Ορεινή Αρκαδία\, Αρκαδία\, Ελλάδα
CATEGORIES:Εκδρομή
ATTACH;FMTTYPE=image/jpeg:https://www.sisa.gr/wp-content/uploads/2018/07/IMG_0212.jpg
ORGANIZER;CN="%CE%A3%CE%99%CE%A3%CE%91":MAILTO:info@sisa.gr
END:VEVENT
END:VCALENDAR