BEGIN:VCALENDAR
VERSION:2.0
PRODID:-//ΣΙΣΑ - ECPv6.10.2//NONSGML v1.0//EN
CALSCALE:GREGORIAN
METHOD:PUBLISH
X-WR-CALNAME:ΣΙΣΑ
X-ORIGINAL-URL:https://www.sisa.gr
X-WR-CALDESC:Events for ΣΙΣΑ
REFRESH-INTERVAL;VALUE=DURATION:PT1H
X-Robots-Tag:noindex
X-PUBLISHED-TTL:PT1H
BEGIN:VTIMEZONE
TZID:Europe/Athens
BEGIN:DAYLIGHT
TZOFFSETFROM:+0200
TZOFFSETTO:+0300
TZNAME:EEST
DTSTART:20180325T010000
END:DAYLIGHT
BEGIN:STANDARD
TZOFFSETFROM:+0300
TZOFFSETTO:+0200
TZNAME:EET
DTSTART:20181028T010000
END:STANDARD
END:VTIMEZONE
BEGIN:VEVENT
DTSTART;TZID=Europe/Athens:20180922T140000
DTEND;TZID=Europe/Athens:20180923T193000
DTSTAMP:20260423T034420
CREATED:20180801T091832Z
LAST-MODIFIED:20180911T171047Z
UID:1452-1537624800-1537731000@www.sisa.gr
SUMMARY:Φθινοπωρινή Περιήγηση με Special Track Day ΣΙΣΑ - HTTC
DESCRIPTION:1η ημέρα Σάββατο 22/9\n14:00 Συγκέντρωση & άμεση αναχώρηση από το Café Racer (Χαρ Τρικούπη 174\, Κηφισιά). *\n15:00-15:15 Μικρή ανασυγκρότηση στο εντευκτήριο του Σ.Ι.Σ.Α. και αναχώρηση προς Riviera Coast (πρώην Vive Mar – Λεωφ. Κωνσταντίνου Καραμανλή 18\, Βούλα). *\n16:00-18:00 Ανασυγκρότηση στο Riviera Coast.\n18:00 Αναχώρηση προς Σούνιο για ηλιοβασίλεμα.\n19:00 Άφιξη στο Σούνιο και παραμονή μέχρι τη δύση του ηλίου.\n19:30 Αναχώρηση μέσω του Αγίου Κωνσταντίνου (Καμάριζα) για γεύμα στην ταβέρνα «Μύθος» της Αναβύσσου.\n22:00 Αναχώρηση προς το εντευκτήριο του Σ.Ι.Σ.Α. *\n23:00-24:00 Επιστροφή προς το Café Racer στην Κηφισιά και τερματισμός 1ης ημέρας * \n2η ημέρα Κυριακή 23/9\n08:00 Συγκέντρωση στο Café Racer (Χαριλάου Τρικούπη 174\, Κηφισιά) και άμεση αναχώρηση για το εντευκτήριο του Σ.Ι.Σ.Α. *\n09:00-10:30 Ελεύθερη αναχώρηση προς Μέγαρα.\n10:30-15:30 Μετά την άφιξη στο Αυτοκινητοδρόμιο Μεγάρων τα οχήματα θα παραταχθούν στο χώρο στάθμευσης\, ενώ όσοι επιθυμούν\, μπορούν να δοκιμάσουν το αυτοκίνητό τους στο «Special Track Day» που συνδιοργανώνουν Σ.Ι.Σ.Α. & HTTC.\n15:30-17:30 Ελεύθερη αναχώρηση από Μέγαρα προς το εντευκτήριο του Σ.Ι.Σ.Α. *\n17:30-19:30 Επιστροφή & τερματισμός 2ης ημέρας στο Café Racer στην Κηφισιά. * \nΣυνολικό κόστος συμμετοχής και για τις 2 ημέρες: 5€ (δεν περιλαμβάνεται η είσοδος στην πίστα των Μεγάρων)\nΚόστος track day (με ατομική χρονομέτρηση): 1 δεκαπεντάλεπτο 40€\, 2 δεκαπεντάλεπτα 50€\,\n4 δεκαπεντάλεπτα 70€. Σε όσους συμμετέχουν στο track day\, τα 5€ της αρχικής συμμετοχής θα\nεπιστραφούν. \n* Οι αναχωρήσεις και οι επιστροφές προς & από το Café Racer και το εντευκτήριο του ΣΙΣΑ είναι\nπροαιρετικές. \n  \nΠρόγραμμα: ΦΘΙΝΟΠΩΡΙΝΗ ΠΕΡΙΗΓΗΣΗ ΜΕ SPECIAL TRACK-DAY 2018
URL:https://www.sisa.gr/event/special-track-day-%cf%83%ce%b9%cf%83%ce%b1-httc/
LOCATION:Πίστα Μεγάρων\, Ελλάδα
CATEGORIES:Track Day,Εκδρομή
ATTACH;FMTTYPE=image/jpeg:https://www.sisa.gr/wp-content/uploads/2018/08/sisa-httc-track-day.jpg
ORGANIZER;CN="%CE%A3%CE%99%CE%A3%CE%91":MAILTO:info@sisa.gr
END:VEVENT
END:VCALENDAR