BEGIN:VCALENDAR
VERSION:2.0
PRODID:-//ΣΙΣΑ - ECPv6.10.2//NONSGML v1.0//EN
CALSCALE:GREGORIAN
METHOD:PUBLISH
X-WR-CALNAME:ΣΙΣΑ
X-ORIGINAL-URL:https://www.sisa.gr
X-WR-CALDESC:Events for ΣΙΣΑ
REFRESH-INTERVAL;VALUE=DURATION:PT1H
X-Robots-Tag:noindex
X-PUBLISHED-TTL:PT1H
BEGIN:VTIMEZONE
TZID:Europe/Athens
BEGIN:DAYLIGHT
TZOFFSETFROM:+0200
TZOFFSETTO:+0300
TZNAME:EEST
DTSTART:20200329T010000
END:DAYLIGHT
BEGIN:STANDARD
TZOFFSETFROM:+0300
TZOFFSETTO:+0200
TZNAME:EET
DTSTART:20201025T010000
END:STANDARD
END:VTIMEZONE
BEGIN:VEVENT
DTSTART;TZID=Europe/Athens:20200119T093000
DTEND;TZID=Europe/Athens:20200119T160000
DTSTAMP:20260421T153803
CREATED:20200109T221155Z
LAST-MODIFIED:20200109T221155Z
UID:4033-1579426200-1579449600@www.sisa.gr
SUMMARY:Winter Track Day 19/1/2020
DESCRIPTION:WINTER TRACK DAY 19/1/2020 \nO ΣΙΣΑ προσκαλεί τα μέλη του και τους φίλους του στο χειμερινό track day που θα γίνει την Κυριακή 19/1/2020 σε συνδιοργάνωση με το HTTC. \nΜπορούν να συμμετέχουν ιστορικά\, youngtimer αλλά και σύγχρονα αυτοκίνητα. \nΗ εγγραφές ξεκινούν στην πίστα την Κυριακή απο τις 9:30 και τα κοστολόγια είναι: \n40 ευρώ το 1 δεκαπεντάλεπτο \n60 ευρώ τα 2 δεκαπεντάλεπτα \n70 ευρώ τα 3 δεκαπεντάλεπτα \nΟι τιμές περιέχουν σένσορα για ατομική χρονομέτρηση. \nΌσοι θέλουν να έρθουν βόλτα και απλά να παρακολουθήσουν\, η είσοδος είναι δωρεάν. \n 
URL:https://www.sisa.gr/event/winter-track-day-19-1-2020/
LOCATION:Πίστα Μεγάρων\, Ελλάδα
CATEGORIES:Track Day
ATTACH;FMTTYPE=image/jpeg:https://www.sisa.gr/wp-content/uploads/2020/01/WINTER-TRACK-DAY-2020.jpg
ORGANIZER;CN="%CE%A3%CE%99%CE%A3%CE%91":MAILTO:info@sisa.gr
END:VEVENT
END:VCALENDAR