BEGIN:VCALENDAR
VERSION:2.0
PRODID:-//ΣΙΣΑ - ECPv6.10.2//NONSGML v1.0//EN
CALSCALE:GREGORIAN
METHOD:PUBLISH
X-WR-CALNAME:ΣΙΣΑ
X-ORIGINAL-URL:https://www.sisa.gr
X-WR-CALDESC:Events for ΣΙΣΑ
REFRESH-INTERVAL;VALUE=DURATION:PT1H
X-Robots-Tag:noindex
X-PUBLISHED-TTL:PT1H
BEGIN:VTIMEZONE
TZID:Europe/Athens
BEGIN:DAYLIGHT
TZOFFSETFROM:+0200
TZOFFSETTO:+0300
TZNAME:EEST
DTSTART:20260329T010000
END:DAYLIGHT
BEGIN:STANDARD
TZOFFSETFROM:+0300
TZOFFSETTO:+0200
TZNAME:EET
DTSTART:20261025T010000
END:STANDARD
END:VTIMEZONE
BEGIN:VEVENT
DTSTART;TZID=Europe/Athens:20260612T120000
DTEND;TZID=Europe/Athens:20260614T170000
DTSTAMP:20260425T004804
CREATED:20260417T201758Z
LAST-MODIFIED:20260417T201758Z
UID:8600-1781265600-1781456400@www.sisa.gr
SUMMARY:Pindos Historic Rally 12-14/6/2026
DESCRIPTION:For all info please redirect to www.pindos.org \n 
URL:https://www.sisa.gr/event/pindos-historic-rally-12-14-6-2026/
CATEGORIES:Αγώνες
ATTACH;FMTTYPE=image/jpeg:https://www.sisa.gr/wp-content/uploads/2026/04/POSTER-PHR-2026.jpg
END:VEVENT
END:VCALENDAR