BEGIN:VCALENDAR
VERSION:2.0
PRODID:-//ΣΙΣΑ - ECPv6.10.2//NONSGML v1.0//EN
CALSCALE:GREGORIAN
METHOD:PUBLISH
X-ORIGINAL-URL:https://www.sisa.gr
X-WR-CALDESC:Events for ΣΙΣΑ
REFRESH-INTERVAL;VALUE=DURATION:PT1H
X-Robots-Tag:noindex
X-PUBLISHED-TTL:PT1H
BEGIN:VTIMEZONE
TZID:Europe/Athens
BEGIN:DAYLIGHT
TZOFFSETFROM:+0200
TZOFFSETTO:+0300
TZNAME:EEST
DTSTART:20210328T010000
END:DAYLIGHT
BEGIN:STANDARD
TZOFFSETFROM:+0300
TZOFFSETTO:+0200
TZNAME:EET
DTSTART:20211031T010000
END:STANDARD
END:VTIMEZONE
BEGIN:VEVENT
DTSTART;TZID=Europe/Athens:20210515T080000
DTEND;TZID=Europe/Athens:20210516T180000
DTSTAMP:20260425T002704
CREATED:20210206T192757Z
LAST-MODIFIED:20210519T150005Z
UID:5146-1621065600-1621188000@www.sisa.gr
SUMMARY:Classic Rally "Acropolis Legends" 15-16/5/2021
DESCRIPTION:ΚΑΝΟΝΙΣΜΟΣ CLASSIC RALLY ACROPOLIS LEGENDS 2021 _1_ \nREGULATION CLASSIC RALLY ACROPOLIS LEGENDS 2021 _1_ \nΔΕΛΤΙΟ ΤΥΠΟΥ CLASSIC RALLY ACROPOLIS LEGENDS 2021 _1_ \nPRESS RELEASE CLASSIC RALLY ACROPOLIS LEGENDS 2021 _1_ \nΔήλωση Συμμετοχής Classic Acropolis Legends 2021 GR pdf _1_ \nΔήλωση Συμμετοχής Classic Acropolis Legends 2021 GR doc (1) \nEntry Form Classic Acropolis Legends 2021 ENG pdf _1_ \nEntry Form Classic Acropolis Legends 2021 ENG doc (1) \nBULLETIN No 1 CRAL 2021 \nBULLETIN No 2 CRAL 2021 \nΛΙΣΤΑ ΞΕΝΟΔΟΧΕΙΩΝ ΛΟΥΤΡΑ ΥΠΑΤΗΣ update 23 Απριλίου \nHOTEL LIST LOUTRA YPATIS update 23 April \nBULLETIN No 3 CRAL 2021 (Self Test) \nΠΡΟΓΡΑΜΜΑ Classic Rally Acropolis Legends 2021 \nPROGRAM Classic Rally Acropolis Legends 2021 \nENTRY LIST CRAL 2021 (Λίστα Δηλώσεων Συμμετοχής) \nBULLETIN No 4 CRAL 2021 (tripmeter calibration)  \nSTART LIST CLASSIC RALLY ACROPOLIS LEGENDS 2021 (Λίστα εκκίνησης) \nΕΝΗΜΕΡΩΣΗ ΠΛΗΡΩΜΑΤΩΝ Classic Rally Acropolis Legends 2021 \nBRIEFING Classic Rally Acropolis Legends 2021 \nBULLETIN No 5 CRAL 2021 (self tests) \nROADBOOK CLASSIC RALLY ACROPOLIS LEGENDS 2021 \nBULLETIN No 6 CRAL 2021 \nRACE PERMIT CLASSIC RALLY ACROPOLIS LEGENDS 2021 \nBULLETIN No 7 CRAL 2021 \nBULLETIN No 8 CRAL 2021 \nGeneral Classification Classic Rally Acropolis Legends 2021 \nCategories Classic Rally Acropolis Legends 2021 \nClassification GT Classic Rally Acropolis Legends 2021 \nTouring Classification Classic Rally Acropolis Legends 2021 \nTouring Classification CRAL 2021 Day 1 \nTouring Classification CRAL 2021 Day 2 \nΤΕΛΙΚΟ ΔΕΛΤΙΟ ΤΥΠΟΥ CLASSIC ACROPOLIS LEGENDS 2021 \nFINAL PRESS RELEASE CLASSIC ACROPOLIS LEGENDS 2021 \n \n \n \n \n \n  \n  \n  \n  \n  \n  \n  \n  \n  \n  \n  \n 
URL:https://www.sisa.gr/event/classic-rally-acropolis-legends-15-16-5-2021/
CATEGORIES:Αγώνες
ATTACH;FMTTYPE=image/jpeg:https://www.sisa.gr/wp-content/uploads/2021/02/CLASSIC_RALLY_ACROPOLIS-_LEGENDS_2021_POSTER.jpg
END:VEVENT
END:VCALENDAR