BEGIN:VCALENDAR
VERSION:2.0
PRODID:-//ΣΙΣΑ - ECPv6.10.2//NONSGML v1.0//EN
CALSCALE:GREGORIAN
METHOD:PUBLISH
X-ORIGINAL-URL:https://www.sisa.gr
X-WR-CALDESC:Events for ΣΙΣΑ
REFRESH-INTERVAL;VALUE=DURATION:PT1H
X-Robots-Tag:noindex
X-PUBLISHED-TTL:PT1H
BEGIN:VTIMEZONE
TZID:Europe/Athens
BEGIN:DAYLIGHT
TZOFFSETFROM:+0200
TZOFFSETTO:+0300
TZNAME:EEST
DTSTART:20210328T010000
END:DAYLIGHT
BEGIN:STANDARD
TZOFFSETFROM:+0300
TZOFFSETTO:+0200
TZNAME:EET
DTSTART:20211031T010000
END:STANDARD
END:VTIMEZONE
BEGIN:VEVENT
DTSTART;TZID=Europe/Athens:20210626T173000
DTEND;TZID=Europe/Athens:20210626T210000
DTSTAMP:20260424T231453
CREATED:20210207T183229Z
LAST-MODIFIED:20210629T133203Z
UID:5150-1624728600-1624741200@www.sisa.gr
SUMMARY:Ανάβαση Βούλας "Κρεμασμένος Λαγός" 26/6/2021
DESCRIPTION:Έρχεται ο ανανεωμένος Κρεμασμένος Λαγός με πολλές εκπλήξεις. \nΚατηγορία Legends με ένα πέρασμα\, μόνο για οδηγούς\, για αυτοκίνητα με παλμαρέ ή βετεράνους αγωνιζόμενους. \nΚατηγορία Regularity με δύο περάσματα\, μόνο για οδηγούς! \nΚατηγορία Touring με δύο περάσματα\, για οδηγούς και συνοδηγούς. \nΟμαδικό έπαθλο. \nΔΕΛΤΙΟ ΠΛΗΡΟΦΟΡΙΩΝ ΚΡΕΜΑΣΜΕΝΟΣ ΛΑΓΟΣ 2021 \nΚΑΝΟΝΙΣΜΟΣ ΚΡΕΜΑΣΜΕΝΟΣ ΛΑΓΟΣ 2021 \nΔΗΛΩΣΗ ΣΥΜΜΕΤΟΧΗΣ ΚΡΕΜΑΣΜΕΝΟΣ ΛΑΓΟΣ 2021 \nΟΔΗΓΙΕΣ ΑΣΥΡΜΑΤΗΣ ΧΡΟΝΟΜΕΤΡΗΣΗΣ \nBULLETIN No 1 ΑΝΑΒΑΣΗ ΒΟΥΛΑΣ 2021 \nΕΝΗΜΕΡΩΤΙΚΟ ΑΝΑΒΑΣΗΣ ΒΟΥΛΑΣ 2021 \nENTRY LIST ΚΡΕΜΑΣΜΕΝΟΣ ΛΑΓΟΣ 2021 (προσοχή αυτή δεν είναι η λίστα εκκίνησης) \nSTART LIST ΚΡΕΜΑΣΜΕΝΟΣ ΛΑΓΟΣ 2021 (ΛΙΣΤΑ ΕΚΚΙΝΗΣΗΣ) \nBULLETIN No 2 ΑΝΑΒΑΣΗ ΒΟΥΛΑΣ 2021 \nΑΠΟΦΑΣΗ ΑΔΕΙΑΣ ΚΡΕΜΑΣΜΕΝΟΣ ΛΑΓΟΣ 2021 \nΠΡΟΓΡΑΜΜΑ ΚΡΕΜΑΣMΕΝΟΣ ΛΑΓΟΣ 2021 \nΕΝΗΜΕΡΩΣΗ ΑΓΩΝΙΖΟΜΕΝΩΝ ΚΡΕΜΑΣMΕΝΟΣ ΛΑΓΟΣ 2021 \nGENERAL CLASSIFICATION KREMASMENOS LAGOS 2021 \nCATEGORIES KREMASMENOS LAGOS 2021 \nTEAM CLASSIFICATION KREMASMENOS LAGOS 2021 \nΔΕΛΤΙΟ ΤΥΠΟΥ ΑΝΑΒΑΣΗΣ ΒΟΥΛΑΣ 2021 \n       \n 
URL:https://www.sisa.gr/event/%ce%b1%ce%bd%ce%ac%ce%b2%ce%b1%cf%83%ce%b7-%ce%b2%ce%bf%cf%8d%ce%bb%ce%b1%cf%82-%ce%ba%cf%81%ce%b5%ce%bc%ce%b1%cf%83%ce%bc%ce%ad%ce%bd%ce%bf%cf%82-%ce%bb%ce%b1%ce%b3%cf%8c%cf%82-26-6-2021/
CATEGORIES:Αγώνες
ATTACH;FMTTYPE=image/jpeg:https://www.sisa.gr/wp-content/uploads/2021/02/POSTER_KREMASMENOS_LAGOS_2021.jpg
END:VEVENT
END:VCALENDAR