BEGIN:VCALENDAR
VERSION:2.0
PRODID:-//ΣΙΣΑ - ECPv6.10.2//NONSGML v1.0//EN
CALSCALE:GREGORIAN
METHOD:PUBLISH
X-WR-CALNAME:ΣΙΣΑ
X-ORIGINAL-URL:https://www.sisa.gr
X-WR-CALDESC:Events for ΣΙΣΑ
REFRESH-INTERVAL;VALUE=DURATION:PT1H
X-Robots-Tag:noindex
X-PUBLISHED-TTL:PT1H
BEGIN:VTIMEZONE
TZID:Europe/Athens
BEGIN:DAYLIGHT
TZOFFSETFROM:+0200
TZOFFSETTO:+0300
TZNAME:EEST
DTSTART:20210328T010000
END:DAYLIGHT
BEGIN:STANDARD
TZOFFSETFROM:+0300
TZOFFSETTO:+0200
TZNAME:EET
DTSTART:20211031T010000
END:STANDARD
END:VTIMEZONE
BEGIN:VEVENT
DTSTART;TZID=Europe/Athens:20210717T160000
DTEND;TZID=Europe/Athens:20210717T210000
DTSTAMP:20260424T215552
CREATED:20210206T191411Z
LAST-MODIFIED:20210721T131308Z
UID:5138-1626537600-1626555600@www.sisa.gr
SUMMARY:28ος Γύρος Αττικής 17/7/2021
DESCRIPTION:ΔΕΛΤΙΟ ΠΛΗΡΟΦΟΡΙΩΝ 28ος ΓΥΡΟΣ ΑΤΤΙΚΗΣ \nΚΑΝΟΝΙΣΜΟΣ 28 ΓΥΡΟΣ ΑΤΤΙΚΗΣ \nΔΗΛΩΣΗ ΣΥΜΜΕΤΟΧΗΣ 28 ΓΥΡΟΣ ΑΤΤΙΚΗΣ (pdf) \nΔΗΛΩΣΗ ΣΥΜΜΕΤΟΧΗΣ 28 ΓΥΡΟΣ ΑΤΤΙΚΗΣ (doc) \nΠΡΟΓΡΑΜΜΑ ΓΥΡΟΣ ΑΤΤΙΚΗΣ 2021 \nENTRY LIST ΓΥΡΟΣ ΑΤΤΙΚΗΣ 2021 (προσοχή αυτή δεν είναι η λίστα εκκίνησης) \nSTART LIST ΓΥΡΟΣ ΑΤΤΙΚΗΣ 2021  (Λίστα Εκκίνησης) \nBULLETIN No 1 ΓΥΡΟΣ ΑΤΤΙΚΗΣ 2021 (Προσέλευση & Tripmeter Calibration) \nROADBOOK 28ος ΓΥΡΟΣ ΑΤΤΙΚΗΣ \nCATEGORIES Tour of Attica REGULARITY \nCATEGORIES Tour of Attica TOURING \nGENERAL CLASSIFICATION Tour of Attica 2021 \nΔΕΛΤΙΟ ΤΥΠΟΥ 28ος ΓΥΡΟΣ ΑΤΤΙΚΗΣ \n   \n  \n  \n  \n 
URL:https://www.sisa.gr/event/28%ce%bf%cf%82-%ce%b3%cf%8d%cf%81%ce%bf%cf%82-%ce%b1%cf%84%cf%84%ce%b9%ce%ba%ce%ae%cf%82-17-7-2021/
CATEGORIES:Αγώνες
ATTACH;FMTTYPE=image/jpeg:https://www.sisa.gr/wp-content/uploads/2021/02/SISA_POSTER_28_GYROS_ATTIKHS_27MAR2021.jpg
END:VEVENT
END:VCALENDAR