BEGIN:VCALENDAR
VERSION:2.0
PRODID:-//ΣΙΣΑ - ECPv6.10.2//NONSGML v1.0//EN
CALSCALE:GREGORIAN
METHOD:PUBLISH
X-WR-CALNAME:ΣΙΣΑ
X-ORIGINAL-URL:https://www.sisa.gr
X-WR-CALDESC:Events for ΣΙΣΑ
REFRESH-INTERVAL;VALUE=DURATION:PT1H
X-Robots-Tag:noindex
X-PUBLISHED-TTL:PT1H
BEGIN:VTIMEZONE
TZID:Europe/Athens
BEGIN:DAYLIGHT
TZOFFSETFROM:+0200
TZOFFSETTO:+0300
TZNAME:EEST
DTSTART:20210328T010000
END:DAYLIGHT
BEGIN:STANDARD
TZOFFSETFROM:+0300
TZOFFSETTO:+0200
TZNAME:EET
DTSTART:20211031T010000
END:STANDARD
END:VTIMEZONE
BEGIN:VEVENT
DTSTART;TZID=Europe/Athens:20210903T100000
DTEND;TZID=Europe/Athens:20210905T120000
DTSTAMP:20260424T190729
CREATED:20210207T183434Z
LAST-MODIFIED:20210901T182206Z
UID:5153-1630663200-1630843200@www.sisa.gr
SUMMARY:Pindos Historic Rally 3-5/9/2021
DESCRIPTION:PHR_2021_Entry_Form_GR \nPHR_2021_program_GR \nPHR_2021_regulation_GR \nposter_2021 \nPHR_2021_PRES_#1 \nPHR-2021-PARTICIPANTS-LIST \nΓια ενημερώσεις πατήστε εδώ \nFor updates press here \n 
URL:https://www.sisa.gr/event/pindos-historic-rally-3-5-9-2021/
CATEGORIES:Αγώνες
ATTACH;FMTTYPE=image/jpeg:https://www.sisa.gr/wp-content/uploads/2021/02/SISA_PHR_0305092021.jpg
END:VEVENT
BEGIN:VEVENT
DTSTART;TZID=Europe/Athens:20210919T120000
DTEND;TZID=Europe/Athens:20210919T170000
DTSTAMP:20260424T190729
CREATED:20210206T192216Z
LAST-MODIFIED:20210920T175721Z
UID:5143-1632052800-1632070800@www.sisa.gr
SUMMARY:Ράλλυ Σαλαμίνας 19/9/2021
DESCRIPTION:ΔΕΛΤΙΟ ΠΛΗΡΟΦΟΡΙΩΝ ΡΑΛΛΥ ΣΑΛΑΜΙΝΑΣ 2021 \nΚΑΝΟΝΙΣΜΟΣ ΡΑΛΛΥ ΣΑΛΑΜΙΝΑΣ 2021 \nΔΗΛΩΣΗ ΣΥΜΜΕΤΟΧΗΣ ΡΑΛΛΥ ΣΑΛΑΜΙΝΑΣ 2021 (doc) \nΔΗΛΩΣΗ ΣΥΜΜΕΤΟΧΗΣ ΡΑΛΛΥ ΣΑΛΑΜΙΝΑΣ 2021 (pdf) \nENTRY LIST SALAMINA 2021 (προσωρινή λίστα – προσοχή αυτή δεν είναι η λίστα εκκίνησης) \nSTART LIST SALAMINA 2021  (λίστα εκκίνησης) \nΠΡΟΓΡΑΜΜΑ ΡΑΛΛΥ ΣΑΛΑΜΙΝΑΣ 2021 \nΠΡΟΣΘΗΚΗ ΚΑΝΟΝΙΣΜΟΥ Νο1 ΣΑΛΑΜΙΝΑ 2021 \nROADBOOK Salamina 2021 \nΔΙΟΡΘΩΣΗ ROADBOOK ΣΑΛΑΜΙΝΑ 2021 ΣΕΛΙΔΑ 7 \nΑΔΕΙΑ ΡΑΛΛΥ ΣΑΛΑΜΙΝΑΣ 2021 \nGeneral Classification Salamina 2021 Regularity \nCategories Salamina 2021 Regularity \nTouring Trophy Salamina 2021 \nΤΕΛΙΚΟ ΔΕΛΤΙΟ ΤΥΠΟΥ ΣΑΛΑΜΙΝΑ 2021 \n  \n  \n 
URL:https://www.sisa.gr/event/%cf%81%ce%ac%ce%bb%ce%bb%cf%85-%cf%83%ce%b1%ce%bb%ce%b1%ce%bc%ce%af%ce%bd%ce%b1%cf%82-19-9-2021/
CATEGORIES:Αγώνες
ATTACH;FMTTYPE=image/jpeg:https://www.sisa.gr/wp-content/uploads/2021/02/SISA_TOURING_SALAMINA_2021_NEW-5.jpg
END:VEVENT
END:VCALENDAR