BEGIN:VCALENDAR
VERSION:2.0
PRODID:-//ΣΙΣΑ - ECPv6.10.2//NONSGML v1.0//EN
CALSCALE:GREGORIAN
METHOD:PUBLISH
X-WR-CALNAME:ΣΙΣΑ
X-ORIGINAL-URL:https://www.sisa.gr
X-WR-CALDESC:Events for ΣΙΣΑ
REFRESH-INTERVAL;VALUE=DURATION:PT1H
X-Robots-Tag:noindex
X-PUBLISHED-TTL:PT1H
BEGIN:VTIMEZONE
TZID:Europe/Athens
BEGIN:DAYLIGHT
TZOFFSETFROM:+0200
TZOFFSETTO:+0300
TZNAME:EEST
DTSTART:20150329T010000
END:DAYLIGHT
BEGIN:STANDARD
TZOFFSETFROM:+0300
TZOFFSETTO:+0200
TZNAME:EET
DTSTART:20151025T010000
END:STANDARD
END:VTIMEZONE
BEGIN:VEVENT
DTSTART;TZID=Europe/Athens:20150912T180000
DTEND;TZID=Europe/Athens:20150912T180000
DTSTAMP:20260425T224506
CREATED:20150907T134523Z
LAST-MODIFIED:20180803T134812Z
UID:1800-1442080800-1442080800@www.sisa.gr
SUMMARY:ΦΘΙΝΟΠΩΡΙΝΗ ΒΟΛΤΑ
DESCRIPTION:Ο Σύλλογος Ιδιοκτητών Σπορ Αυτοκινήτων σας προσκαλεί το Σάββατο 12 Σεπτεμβρίου 2015 στην καθιερωμένη Φθινοπωρινή Βόλτα. Σας περιμένουμε είτε με το ιστορικό σας αυτοκίνητο\, είτε με το youngtimer σας. Μοναδική προϋπόθεση είναι η ύπαρξη ασφαλιστηρίου συμβολαίου και κάρτας πιστοποίησης FIVA ή FIA. Η διαδρομή είναι ελεύθερη\, χωρίς roadbook και περιορισμούς και η συμμετοχή είναι δωρεάν.\nΗ συγκέντρωση θα γίνει 18:00 – 19:00 στο  “Vive Mar” στη Λ. Καραμανλή 18 στη Βούλα. Στη συνέχεια τα αυτοκίνητα θα κινηθούν σε μικρές ομάδες προς την Πάλαια Φώκαια και θα παραταχθούν στο πάρκινγκ του  “Seagull Cafe” Λ. Σουνίου 7 στην Παλαιά Φώκαια. Εκεί μπορείτε να απολαύσετε τον καφέ σας ή ψαρομεζέδες σε προνομιακές τιμές.\nΔεν απαιτείται να στείλετε αίτηση συμμετοχής.\nΣας περιμένουμε για μια χαλαρή φθινοπωρινή βόλτα\, χωρίς το άγχος του ανταγωνισμού\, των ειδικών διαδρομών και των χρονομέτρων.
URL:https://www.sisa.gr/event/%cf%86%ce%b8%ce%b9%ce%bd%ce%bf%cf%80%cf%89%cf%81%ce%b9%ce%bd%ce%b7-%ce%b2%ce%bf%ce%bb%cf%84%ce%b1/
CATEGORIES:Εκδρομή
ORGANIZER;CN="%CE%A3%CE%99%CE%A3%CE%91":MAILTO:info@sisa.gr
END:VEVENT
END:VCALENDAR