BEGIN:VCALENDAR
VERSION:2.0
PRODID:-//ΣΙΣΑ - ECPv6.10.2//NONSGML v1.0//EN
CALSCALE:GREGORIAN
METHOD:PUBLISH
X-ORIGINAL-URL:https://www.sisa.gr
X-WR-CALDESC:Events for ΣΙΣΑ
REFRESH-INTERVAL;VALUE=DURATION:PT1H
X-Robots-Tag:noindex
X-PUBLISHED-TTL:PT1H
BEGIN:VTIMEZONE
TZID:Europe/Athens
BEGIN:DAYLIGHT
TZOFFSETFROM:+0200
TZOFFSETTO:+0300
TZNAME:EEST
DTSTART:20150329T010000
END:DAYLIGHT
BEGIN:STANDARD
TZOFFSETFROM:+0300
TZOFFSETTO:+0200
TZNAME:EET
DTSTART:20151025T010000
END:STANDARD
END:VTIMEZONE
BEGIN:VEVENT
DTSTART;VALUE=DATE:20151017
DTEND;VALUE=DATE:20151019
DTSTAMP:20260425T211944
CREATED:20150831T134856Z
LAST-MODIFIED:20180803T141501Z
UID:1802-1445040000-1445212799@www.sisa.gr
SUMMARY:18o "24 ΩΡΕΣ ΕΛΛΑΔΑ" endurance regularity rally
DESCRIPTION:Μετά από πολύμηνη προετοιμασία το 18ο «24 Ώρες Ελλάδα» πέρασε στην ιστορία. Με 65 πληρώματα να εκκινούν το Σάββατο το πρωί από την Κόρινθο και με σύμμαχο τον καλό καιρό\, εκτέλεσαν τις πρώτες ειδικές δοκιμασίες ακριβείας «Ντράσσα» και «Αγ. Ιωάννη». Έπειτα έκαναν μία σύντομη στάση στο Κουτσοπόδι και στη συνέχεια ακολούθησαν η «Λυρκεία»\, η απαιτητική «Δούκα Βρύση» και το κατηφορικό «Ψάρι» για να καταλήξουν στην 1η ανασυγκρότηση\, στην Κλειτορία\, όπου έγιναν δεκτοί με ενθουσιασμό.\n \n  \n\n\nΤο ράλι όμως ότι είχε αρχίσει. Λίγα μόλις χιλιόμετρα μετά την ανασυγκρότηση υπήρχαν  ο ανηφορικός «Πάος» και η γραφική «Πέρα Βάχλια 1». Λίγη χαλάρωση στο Σταυροδρόμι και έφτασε πλέον η ώρα να ανάψουν οι προβολείς! Με τις «Ράχες» να είναι η πρώτη βραδινή ειδική ξεκίνησαν οι νυχτερινές δοκιμασίες που περιλάμβαναν μία συνεχόμενη απλή διαδρομή 50 χλμ κατά την οποία όσοι δεν κινήθηκαν «σβέλτα» κινδύνεψαν με ποινές στο τέλος του 12ωρου σκέλους. Οι ειδικές «Ζάτουνα» και «Ελληνικό» συμπλήρωσαν το 1ο νυχτερινό σκέλος και τα πληρώματα κατέληξαν στα φιλόξενα Λαγκάδια Αρκαδίας για την 3ωρη ανασυγκρότηση του αγώνα και την λήξη του «12ωρου» επάθλου που διεκδικούσαν 6 πληρώματα. \nΤα φαβορί είχαν αρχίσει να ξεχωρίζουν\, με τους Κατσαούνη/Μανσόλα/VW Golf Gti\, Λάγγα/Μαλτέζου/Volvo 122 και Μπέντα/Κοφινά/BMW 2002 να προηγούνται μέχρι τη νυχτερινή επανεκκίνηση. Όμως η νίκη δεν είχε εξασφαλιστεί και η νύχτα φέρνει πάντα ανατροπές! Ακολούθησαν ο ανηφορικός «Σπαθάρης» και μετέπειτα η γραφική «Πέρα Βάχλια 2» που διένυε τις όχθες της Λίμνης Λάδωνα. Μεταμεσονύχτια ανασυγκρότηση στην Κλειτορία και συνέχεια με τις απανωτές ειδικές «Λυκούρια»\, «Λίμνη Δόξα»\, «Ευρωστίνα» και «Πύργος» εκ των οποίων οι δύο τελευταίες δεν προσμέτρησαν λόγω ενός ατυχούς τυπογραφικού λάθους στην εκφώνηση. \nΑνασυγκρότηση στα Κάτω Πιτσά και εκκίνηση για το πρωινό και τελευταίο σκέλος του αγώνα\, το οποίο περιείχε έξυπνες «παγίδες». Συναντούσες πρώτα την δεύτερη ειδική του σκέλους\, «Προ Στύλια»\, έπειτα την πρώτη «Προ Παναρίτη»\, ενώ στην τελευταία ειδική υπήρχαν δύο τουλίπες με αλλαγή πορείας που εύκολα μπορούσες να χαθείς. \nΣτις 11:00 το πρωί της Κυριακής άρχιζαν να περνούν τη γραμμή του τερματισμού ένα ένα τα 44  πληρώματα που είχαν απομείνει. Οι 15 εγκαταλείψεις επιβεβαιώνουν ότι το «24 Ώρες Ελλάδα» δοκιμάζει στα όρια τις αντοχές ανθρώπων & μηχανών και δίκαια κατέχει τον τίτλο του πιο απαιτητικού regularity rally στην Ελλάδα. \nΟι μεγάλοι νικητές της γενικής κατάταξης ήταν 1) Κατσαούνης/Μανσόλας/VW Golf Gti (γιά έκτη χρονιά)\, 2) Κ. Χωριανόπουλος/Di Maggio/Porsche 944 και 3) οι περυσινοί νικητές\, Μπέντας/Κοφινάς/BMW 2002. Τα αναλυτικά αποτελέσματα της γενικής κατάταξης\, των κατηγοριών καθώς και των ειδικών διαδρομών είναι αναρτημένα στην ιστοσελίδα του ΣΙΣΑ www.sisa.gr \nΟ Σύλλογος Ιδιοκτητών Σπορ Αυτοκινήτων ευχαριστεί την οργανωτική επιτροπή\, τους κριτές & χρονοµέτρες\, τους υποστηρικτές του αγώνα Ridley\, SP Tableware\, Piu Verde\, LeasePlan\, Maniatis Hotels\, Fresh patisserie\, 4Τροχοί\, τους χορηγούς επικοινωνίας καθώς και όλες τις οµάδες και τις λέσχες που συµµετείχαν. Η δεξίωση απονοµής έγινε την ∆ευτέρα 19/10 στις 20:00 στο Piu Verde. Όλοι οι συµµετέχοντες\, ακόµα και αυτοί που εγκατέλειψαν\, αξίζουν συγχαρητηρίων και έφυγαν µε ένα χαµόγελο και µε την ευχή «…και του χρόνου στο 19ο…». \nΣΧΕΤΙΚΑ ΑΡΧΕΙΑ \n\n24_HOURS_GREECE_PRESS_RELEASE_2\nCATEGORIES_24_HRS_GREECE_2015\nCLASSIFICATION_12_HRS_GR_TROPHY_2015\nEntry_Form_24_Hours_Greece_2015\nFINAL_PRESS_RELEASE_24_HRS_GREECE_2015\nGENERAL_CLASSIFICATION_24HRS_GREECE_2015\nPress_Release_No_3\nProgram_24_Hours_Greece_2015\nRegulation_24_HOURS_GREECE_2015\nRoadbook_24_Hours_Greece_2015\nROADBOOK_TO_START_IN_KORINTHOS\nSTART_LIST_24_HOURS_2015\nSupplemental_Regulation_12_HOURS_GREECE_2015\nSupplemental_Regulation_No2_24_HOURS_GREECE_2015\nTRIPMETER_CALIBRATION_24_HOURS_GREECE_2015
URL:https://www.sisa.gr/event/18o-24-%cf%89%cf%81%ce%b5%cf%83-%ce%b5%ce%bb%ce%bb%ce%b1%ce%b4%ce%b1-endurance-regularity-rally/
CATEGORIES:Αγώνες
ATTACH;FMTTYPE=image/jpeg:https://www.sisa.gr/wp-content/uploads/2018/08/cover-24HOURS_2015.jpg
ORGANIZER;CN="%CE%A3%CE%99%CE%A3%CE%91":MAILTO:info@sisa.gr
END:VEVENT
END:VCALENDAR