BEGIN:VCALENDAR
VERSION:2.0
PRODID:-//ΣΙΣΑ - ECPv6.10.2//NONSGML v1.0//EN
CALSCALE:GREGORIAN
METHOD:PUBLISH
X-ORIGINAL-URL:https://www.sisa.gr
X-WR-CALDESC:Events for ΣΙΣΑ
REFRESH-INTERVAL;VALUE=DURATION:PT1H
X-Robots-Tag:noindex
X-PUBLISHED-TTL:PT1H
BEGIN:VTIMEZONE
TZID:Europe/Athens
BEGIN:DAYLIGHT
TZOFFSETFROM:+0200
TZOFFSETTO:+0300
TZNAME:EEST
DTSTART:20150329T010000
END:DAYLIGHT
BEGIN:STANDARD
TZOFFSETFROM:+0300
TZOFFSETTO:+0200
TZNAME:EET
DTSTART:20151025T010000
END:STANDARD
END:VTIMEZONE
BEGIN:VEVENT
DTSTART;VALUE=DATE:20151206
DTEND;VALUE=DATE:20151207
DTSTAMP:20260425T183547
CREATED:20151109T120139Z
LAST-MODIFIED:20180806T113533Z
UID:1788-1449360000-1449446399@www.sisa.gr
SUMMARY:ΣΙΣΑ GRAND PRIX 2015
DESCRIPTION:Ο Σύλλογος Ιδιοκτητών Σπορ Αυτοκινήτων διοργανώνει την Κυριακή 6 Δεκεμβρίου τον τελευταίο αγώνα για το 2015\, το «ΣΙΣΑ Grand Prix»\, που θα κρίνει και το αμφίρροπο Πρωτάθλημα ΣΙΣΑ. Μετά τη μεγάλη περυσινή επιτυχία η εκδήλωση θα διεξαχθεί ξανά στο πάρκινγκ του Beach Volley των ολυμπιακών εγκαταστάσεων Καλλιθέας. \nΔικαίωμα συμμετοχής έχουν ιστορικά αυτοκίνητα κατασκευής έως και το 1985 (κατηγορία “Historic”) και αυτοκίνητα από το 1986 έως και το 1995 (κατηγορία Potentially Historic-“Youngtimer”). Τα πληρώματα θα αποτελούνται από ένα ή δύο μέλη\, οδηγό και προαιρετικά συνοδηγό. Φέτος οι συμμετέχοντες θα μπορούν να επιλέξουν να διαγωνισθούν είτε στην κατηγορία Super Classic (με ανώτατη μέσω ωριαία ταχύτητα έως 50 χλμ) ή στην κατηγορία Regularity Classic (με ΜΩΤ έως 40 χλμ). Δικαίωμα συγκομιδής βαθμών για το πρωτάθλημα έχουν και οι δύο κατηγορίες\, απαγορεύεται όμως η ταυτόχρονη συμμετοχή και στις δύο κατηγορίες.\n \n\n\nΕντός του χώρου θα έχει διαμορφωθεί μία ειδική διαδρομή ακριβείας μήκους περίπου 1000 μέτρων\, στην οποία θα διαγωνισθούν τα πληρώματα 3 φορές με τον ίδιο τρόπο\, όπως σε ένα Rally Sprint Regularity. Η τελική μορφή της εκδήλωσης και των κατηγοριών αποτυπώνεται στον Ειδικό Κανονισμό.  Οι θεατές θα μπορούν να παρακολουθούν πανοραμικά από ασφαλή θέση και η είσοδος είναι ελεύθερη. \nΤο κόστος συμμετοχής ανέρχεται στα  70€ ανά αυτοκίνητο για τα ταμειακώς ενήμερα μέλη ΣΙΣΑ και στα 80€ για τους λοιπούς συμμετέχοντες. Στο παράβολο συμπεριλαμβάνεται συμμετοχή στα έξοδα οργάνωσης\, πολλά δώρα από τους υποστηρικτές του αγώνα και συμμετοχή στο Πρωτάθλημα Οδηγών – Συνοδηγών ΣΙΣΑ\, με συντελεστή 1. \nΠΡΟΓΡΑΜΜΑ\n09:00-09:30 Συγκέντρωση\, Διοικητικός Έλεγχος & Ενημέρωση Συμμετεχόντων\n09:30-09:55 Ελεύθερα δοκιμαστικά\n10:00-11:30 Εκκίνηση – 1ο σκέλος\n11:30-13:00 2ο σκέλος\n13:00-14:30 3ο σκέλος\n15:00 Έκδοση αποτελεσμάτων\n15:30 Απονομή επάθλων \nΤα ωράρια της εκδήλωσης αναφέρονται στην εκκίνηση και στον τερματισμό του 1ου αυτοκινήτου. Ο σύλλογος διατηρεί το δικαίωμα αλλαγών για την καλύτερη ροή του προγράμματος. Ο ειδικός κανονισμός και η αίτηση συμμετοχής έχουν αναρτηθεί στην ιστοσελίδα του Συλλόγου www.sisa.gr \nΥποστηρικτές του αγώνα είναι οι AVON ελαστικά Μαρασλής\, γυαλιά ηλίου Ridley\, SP Tableware και το Τμήμα Διαχείρησης Εμπορικών Δραστηριοτήτων. Χορηγοί επικοινωνίας είναι οι Auto Classic\, Time2rally & SNP. H εκδήλωση τελεί υπό την αιγίδα του Δήμου Καλλιθέας.\n \nΣΧΕΤΙΚΑ ΑΡΧΕΙΑ\n\nCATEGORIES_GRAND_PRIX_2015\nENTRY_FORM_SISA_GRAND_PRIX_2015\nENTRY_FORM_SISA_GRAND_PRIX_2015\nGENERAL_CLASSIFICATION_GRAND_PRIX_2015\nREGULATION_Grand_Prix_2015\nRESULTS_GRAND_PRIX_2015\nSTART_LIST_SISA_GRAND_PRIX_2015
URL:https://www.sisa.gr/event/%cf%83%ce%b9%cf%83%ce%b1-grand-prix-2015/
CATEGORIES:Αγώνες
ATTACH;FMTTYPE=image/jpeg:https://www.sisa.gr/wp-content/uploads/2018/08/cover_SISA_GRAND_PRIX_2015.jpg
ORGANIZER;CN="%CE%A3%CE%99%CE%A3%CE%91":MAILTO:info@sisa.gr
END:VEVENT
END:VCALENDAR